BEGIN:VCALENDAR
VERSION:2.0
METHOD:PUBLISH
PRODID:-//Agenda.ad//NONSGML v1.0//EN
BEGIN:VEVENT
CLASS:PUBLIC
UID:2b96c28651b700702829d0f65d849712@agenda.ad
DTSTAMP:20260419T203212Z
DTSTART:20260227T230000Z
DTEND:20260227T230000Z
SUMMARY:<p>"Nyam nyam i bon profit". Visita guiada i piscolabis. a la Casa Rull.&nbsp;</p>
DESCRIPTION:\n\nMés informació\nhttps://www.agenda.ad/activitat/la-mas
 sana/mes-cultura/nyam-nyam-i-bon-profit-visita-guiada-i-pisc
 olabis-a-la-casa-rull \nwww.museus.ad\n\nOrganitza\nGovern 
 d’Andorra 
LOCATION:Museu Casa Rull
SEQUENCE:0
TRANSP:OPAQUE
X-ALT-DESC;FMTTYPE=text/html:<!DOCTYPE HTML PUBLIC "-//W3C//DTD HTML 3.2//EN"><HTML><HEAD
 ><TITLE></TITLE></HEAD><BODY><FONT FACE="Arial" SIZE=2><br/>
 <br/><b>Més informació</b><br/><a href="https://www.agenda
 .ad/activitat/la-massana/mes-cultura/nyam-nyam-i-bon-profit-
 visita-guiada-i-piscolabis-a-la-casa-rull ">https://www.age
 nda.ad/activitat/la-massana/mes-cultura/nyam-nyam-i-bon-prof
 it-visita-guiada-i-piscolabis-a-la-casa-rull </a><br/>www.m
 useus.ad<br/><br/><b>Organitza</b><br/>Govern d’Andorra </
 FONT></BODY></HTML>
END:VEVENT
END:VCALENDAR